BEGIN:VCALENDAR
VERSION:2.0
PRODID:-//Madera String Quartet • Tucson Based Musicians - ECPv6.15.20//NONSGML v1.0//EN
CALSCALE:GREGORIAN
METHOD:PUBLISH
X-WR-CALNAME:Madera String Quartet • Tucson Based Musicians
X-ORIGINAL-URL:https://www.maderaquartet.com
X-WR-CALDESC:Events for Madera String Quartet • Tucson Based Musicians
REFRESH-INTERVAL;VALUE=DURATION:PT1H
X-Robots-Tag:noindex
X-PUBLISHED-TTL:PT1H
BEGIN:VTIMEZONE
TZID:America/Phoenix
BEGIN:STANDARD
TZOFFSETFROM:-0700
TZOFFSETTO:-0700
TZNAME:MST
DTSTART:20250101T000000
END:STANDARD
END:VTIMEZONE
BEGIN:VEVENT
DTSTART;TZID=America/Phoenix:20260320T203000
DTEND;TZID=America/Phoenix:20260320T213000
DTSTAMP:20260420T072028
CREATED:20260226T000520Z
LAST-MODIFIED:20260316T000239Z
UID:3354-1774038600-1774042200@www.maderaquartet.com
SUMMARY:Candlelight: 90s Hip-Hop on Strings
DESCRIPTION:Overview\nCandlelight concerts bring the magic of a live\, multi-sensory musical experience to awe-inspiring locations like never seen before in Tucson. Get your tickets now to discover the music of 90s Hip-Hop on Strings at Scottish Rite Cathedral Tucson under the gentle glow of candlelight. \nGeneral Info\n\n📍 Venue: Scottish Rite Cathedral Tucson\n⏳ Duration: 60 minutes. Doors open 30 minutes before the show. No entry once it starts.\n👤 Age requirement: 8 years old or older. Anyone under the age of 16 must be accompanied by an adult\n♿ Accessibility: This venue is ADA compliant\n🪑 Seating: Seating is assigned on a first come first served basis in each zone\n\nTentative Program\n\nFugees and Lauryn Hill Medley (Ready or Not\, Doo-Wop\, Fu-Gee-La\, and Killing Me Softly)\nJay-Z Medley (Can I Get A…\, Big Pimpin\, Money Ain’t a Thing\, and More)\nNas Medley (It Ain’t Hard to Tell\, N.Y. State of Mind\, The World Is Yours\, and More)\nOutkast Medley (Rosa Parks\, Elevators (Me & You)\, SpottieOttieDopaliscious\, and More)\nMissy ‘Misdemeanor’ Elliott Medley (The Rain (Supa Dupa Fly)\, Sock It to Me\, and More)\nA Tribe Called Quest Medley (Can I Kick It\, Check the Rhime\, Scenario\, and More)\nWu Tang Clan Medley (C.R.E.A.M. (Cash Rules Everything Around Me)\, Wu-Tang Clan Ain’t Nuthing Ta F’ Wit\, Protect Ya Neck\, and More)\n2Pac Medley (Dear Mama\, California Love\, and more)\nThe Notorious B.I.G. Medley (Juicy\, Big Poppa\, Hypnotize\, and More)\nDr. Dre Medley (Still D.R.E.\, Forgot About Dre\, Nuthin’ but a ‘G’ Thang\, and More)\nGin and Juice – Snoop Dogg\n\nPerformers\n🎻 String Quartet – Listeso – Tucson \nBook a Private Event\nLooking to create an unforgettable experience for your wedding\, or special occasion? We offer private event bookings with customized programs tailored to your needs. \nGet a quote
URL:https://www.maderaquartet.com/concert/candlelight-90s-hip-hop-on-strings/
LOCATION:Scottish Rite Cathedral Tucson\, Tucson\, AZ\, United States
CATEGORIES:Tucson, AZ
ATTACH;FMTTYPE=image/jpeg:https://www.maderaquartet.com/wp-content/uploads/2026/02/0333ea26-1516-11f0-a637-fad4b74c3ddb-2HI2sy-XubiSA.jpg
END:VEVENT
END:VCALENDAR